BEGIN:VCALENDAR
VERSION:2.0
PRODID:-//Historische Kring Hellendoorn Nijverdal - ECPv6.15.20//NONSGML v1.0//EN
CALSCALE:GREGORIAN
METHOD:PUBLISH
X-ORIGINAL-URL:https://www.hkhn.nl
X-WR-CALDESC:Evenementen voor Historische Kring Hellendoorn Nijverdal
REFRESH-INTERVAL;VALUE=DURATION:PT1H
X-Robots-Tag:noindex
X-PUBLISHED-TTL:PT1H
BEGIN:VTIMEZONE
TZID:Europe/Amsterdam
BEGIN:DAYLIGHT
TZOFFSETFROM:+0100
TZOFFSETTO:+0200
TZNAME:CEST
DTSTART:20230326T010000
END:DAYLIGHT
BEGIN:STANDARD
TZOFFSETFROM:+0200
TZOFFSETTO:+0100
TZNAME:CET
DTSTART:20231029T010000
END:STANDARD
BEGIN:DAYLIGHT
TZOFFSETFROM:+0100
TZOFFSETTO:+0200
TZNAME:CEST
DTSTART:20240331T010000
END:DAYLIGHT
BEGIN:STANDARD
TZOFFSETFROM:+0200
TZOFFSETTO:+0100
TZNAME:CET
DTSTART:20241027T010000
END:STANDARD
BEGIN:DAYLIGHT
TZOFFSETFROM:+0100
TZOFFSETTO:+0200
TZNAME:CEST
DTSTART:20250330T010000
END:DAYLIGHT
BEGIN:STANDARD
TZOFFSETFROM:+0200
TZOFFSETTO:+0100
TZNAME:CET
DTSTART:20251026T010000
END:STANDARD
BEGIN:DAYLIGHT
TZOFFSETFROM:+0100
TZOFFSETTO:+0200
TZNAME:CEST
DTSTART:20260329T010000
END:DAYLIGHT
BEGIN:STANDARD
TZOFFSETFROM:+0200
TZOFFSETTO:+0100
TZNAME:CET
DTSTART:20261025T010000
END:STANDARD
END:VTIMEZONE
BEGIN:VEVENT
DTSTART;TZID=Europe/Amsterdam:20251110T193000
DTEND;TZID=Europe/Amsterdam:20251110T213000
DTSTAMP:20260424T141835
CREATED:20251026T193131Z
LAST-MODIFIED:20251026T193131Z
UID:674-1762803000-1762810200@www.hkhn.nl
SUMMARY:Lezing: Overijssel in kaart\, 500 jaar geschiedenis in bijzondere kaarten
DESCRIPTION:Aanvang: 19.30 uur \nDe Historische Kring Hellendoorn-Nijverdal organiseert op 10 november een lezing door Frank Baars over 500 jaar geschiedenis van bijzondere kaarten. Frank Baars is een fervent verzamelaar van kaarten en houdt hierover regelmatig lezingen. \nDe oudste regionale kaart van Nederland met daarop het grootste deel van Overijssel dateert van circa 1524. In de jaren daarna zijn er tal van kaarten verschenen die een goed beeld geven van niet alleen de ruimtelijke ontwikkeling in Overijssel\, maar ook van het vak van kaarten maken. \nIn de 16de eeuw begon de cartografie zich te ontwikkelen tot een bloeiende bedrijfstak. Hun nauwkeurigheid liet aanvankelijk te wensen over. Wie met die kaarten in de hand wilde reizen\, moet aardig gedwaald hebben. Toch gaven vorsten als Karel V en Philips II aan de meest betrouwbare cartografen de opdracht om gebieden en steden zo correct mogelijk op te tekenen. Vooral voor militaire en bestuurlijke doeleinden. \nIn de 17de eeuw kwamen de kaarten door toepassing van nieuwe technieken steeds meer met de werkelijkheid overeen. Voor vorsten werden kaarten een presigeobject en de kaartenmakers prachtig vaak prachtige versieringen aan. \nIn de 19de eeuw zien we de Nederlandse cartografie opnieuw stappen maken. Vooral op het gebied van de militaire cartografie. Nieuwe druktechnieken als de lithografie maken het drukken van grotere oplagen en in kleuren niet alleen technisch mogelijk\, maar ook beter betaalbaar. Kaarten en atlassen komen daarmee voor een breder publiek beschikbaar. In het onderwijs wordt aardrijkskunde een verplicht vak. Schoolatlassen nemen een grote vlucht\, met in 1877 de eerste Bosatlas als trendsetter. \nDe moderne tijd van 1900 tot nu is ondenkbaar zonder kaarten. Stedenbouwkundige ontwikkelingen\, verkeer en waterstaat\, recreatie en toerisme zorgen voor een exponentiele toename van het aantal kaarten. Ontwikkelingen ook\, die dusdanig snel gaan dat de traditionele kaart het tempo nauwelijks nog bij kan houden. Google maps zet nu de toon en juist dat maakt het extra interessant om eens terug te kijken op 500 jaar kaarten van Overijssel. \nFrank Baars toont een selectie van de mooiste en bijzondere kaarten die er zijn verschenen. Het gaat niet alleen om kaarten van de provincie Overijssel als geheel\, maar ook om stadsplattegronden en stadsgezichten van Overijsselse steden. Verschillende bekende en onbekende kaartmakers passeren hierbij de revue en uiteraard zal er specifiek worden ingezoomd op de gemeente Hellendoorn. \nDe toegang is gratis\, wel bestaat de mogelijkheid tot een vrijwillige bijdrage. \n  \n  \n  \n 
URL:https://www.hkhn.nl/event/lezing-overijssel-in-kaart-500-jaar-geschiedenis-in-bijzondere-kaarten/
LOCATION:Huis voor Cultuur en Bestuur\, Willem Alexanderstraat 7\, Nijverdal
ATTACH;FMTTYPE=image/jpeg:https://www.hkhn.nl/wp-content/uploads/2025/10/TKO-Hellendoorn-detail20001.jpg
ORGANIZER;CN="HKHN":MAILTO:huismeester@hkhn.nl
END:VEVENT
BEGIN:VEVENT
DTSTART;TZID=Europe/Amsterdam:20250828T140000
DTEND;TZID=Europe/Amsterdam:20250828T163000
DTSTAMP:20260424T141835
CREATED:20240620T102706Z
LAST-MODIFIED:20250725T071753Z
UID:552-1756389600-1756398600@www.hkhn.nl
SUMMARY:Met Bello over de Sallandse Heuvelrug
DESCRIPTION:De eerstvolgende bijeenkomst die door de Historische Kring Hellendoorn-Nijverdal voor senioren wordt georganiseerd is niet in d’Oale Pastorie\, maar gaat met treintje Bello over de Sallandse Heuvelrug. Er wordt op 28 augustus een gezellige middag georganiseerd waarbij we ook de Schaapskooi aan zullen doen. Veel ouderen zijn in de zomer een lange tijd alleen omdat veel mensen dan op vakantie zijn. Om er even uit zijn organiseert de Historische Kring deze middag. We vertrekken vanaf het plein voor de Rooms-katholieke kerk om 14 uur. Voorafgaand kunt u vanaf half 2 nog een kopje koffie of thee drinken. Het is de bedoeling dat we tussen 16.00 en 16.30 uur weer terug zijn. Dan staat er in d’Oale Pastorie nog een hapje en drankje klaar. U moet zich wel aanmelden voor deze middag. Dat kan per mail: huismeester@hkhn.nl of telefonisch 06 19300444.
URL:https://www.hkhn.nl/event/met-bello-over-de-sallandse-heuvelrug/
LOCATION:Historisch Centrum ‘d Oale Pastorie\, Grotestraat 150\, Nijverdal\, Nederland
CATEGORIES:Seniorenuitje
ATTACH;FMTTYPE=image/jpeg:https://www.hkhn.nl/wp-content/uploads/2024/06/bello.jpg
ORGANIZER;CN="HKHN":MAILTO:huismeester@hkhn.nl
END:VEVENT
BEGIN:VEVENT
DTSTART;TZID=Europe/Amsterdam:20241016T130000
DTEND;TZID=Europe/Amsterdam:20241016T170000
DTSTAMP:20260424T141835
CREATED:20241011T125043Z
LAST-MODIFIED:20241011T125043Z
UID:576-1729083600-1729098000@www.hkhn.nl
SUMMARY:Seniorenmiddag: film in d'Oale Pastorie
DESCRIPTION:In samenwerking met de ouderenbonden KBO/PCOB organiseert de HKHN weer een filmmiddag voor senioren in d’Oale Pastorie. \nDe middag vindt plaats op woensdag 16 oktober. Inloop vanaf 13.00 uur. Aanvang film 13.30 uur. Na afloop is er weer een gezellig samenzijn onder het genot van een hapje en een drankje. Graag aanmelden bij huismeester@hkhn.nl of 0619300444
URL:https://www.hkhn.nl/event/seniorenmiddag-film-in-doale-pastorie/
LOCATION:Historisch Centrum ‘d Oale Pastorie\, Grotestraat 150\, Nijverdal\, Nederland
CATEGORIES:Seniorenuitje
ATTACH;FMTTYPE=image/jpeg:https://www.hkhn.nl/wp-content/uploads/2024/06/filmmiddag.jpg
END:VEVENT
BEGIN:VEVENT
DTSTART;TZID=Europe/Amsterdam:20240908T143000
DTEND;TZID=Europe/Amsterdam:20240908T160000
DTSTAMP:20260424T141835
CREATED:20240904T104723Z
LAST-MODIFIED:20240904T104723Z
UID:570-1725805800-1725811200@www.hkhn.nl
SUMMARY:Lezing Enterse Zomp in de Smidse
DESCRIPTION:Lezing 8 september 2024: “Geschiedenis Enterse Zomp” \nDe tweede lezing lezing in het kader van de jaarlijkse expositie in De Smidse wordt verzorgd door leden van\nde Regionale Stichting Enterse Zomp. \nFrans Schuitemaker is binnen de Regionale Stichting Enterse Zomp verantwoordelijk voor marketing &\ncommunicatie. Zijn familie heeft vanaf 1650 Enterse Zompen gebouwd.\nIn de lezing van Frans Schuitemaker staat de Regge centraal. Deze rivier werd vanaf de late middeleeuwen tot\neind 19e eeuw gebruikt voor het vervoer van goederen over water.\nVanaf 1650 heeft de familie Schuitemaker generatie op generatie aan de Lee\, een zijtak van de Regge bij Enter\,\nspeciaal voor deze rivier schepen gebouwd\, de zogenaamde Enterse Zomp. Het hoogtepunt van deze\nscheepsbouw was in de eerste helft van de 19e eeuw. \nFrans Schuitemaker gaat in zijn lezing in op wat er bekend is over de Regge als vaarweg\, welke Nederlandse\ngeschiedenis en andere ontwikkelingen hebben daarbij een bepalende rol gespeeld en op welke wijze blijft de\nEnterse Zomp als varend erfgoed behouden voor de toekomst.\nDe bisschop van Utrecht\, de hertog van Gelre\, de graaf van Twickel\, Napoleon\, koning Willem III en anderen\nhebben de ontwikkeling én de teloorgang van de Regge en de Enterse Zomp bepaald. \nHet is een historisch verhaal en tegelijk het verhaal van nu\, want de regionale stichting Enterse Zomp vaart\nnog steeds en is met haar ligplaatsen in Enter\, Rijssen en Hellendoorn zelfs gekozen in de top 10 van ANWB’s\nleukste uitje van Overijssel 2024. Bert Huizing zal hier aan het eind van de lezing wat over vertellen.\nDe expositie in De Smidse is op werkdagen geopend van 13.00 tot 17.00 uur en in het weekend van 11.00 tot\n17.00 uur. Op zondag 1\, 8\, 15 en 22 september om 14.30 uur is er een lezing. \nDe toegang is gratis\, een vrije gift is natuurlijk welkom.\nIedere bezoeker krijgt een gratis boekje over het thema van de expositie om thuis nog eens na te kijken.\nVoor mensen die slecht ter been zijn\, is er een stoeltjeslift aanwezig en ook de vrijwilligers helpen u graag de\nexpositie te bezoeken. \n  \n 
URL:https://www.hkhn.nl/event/lezing-enterse-zomp-in-de-smidse/
LOCATION:De Smidse\, Hoge Dijkje 4a\, Nijverdal\, Overijssel\, 7442 AE
CATEGORIES:Smidse
END:VEVENT
BEGIN:VEVENT
DTSTART;TZID=Europe/Amsterdam:20240831T080000
DTEND;TZID=Europe/Amsterdam:20240930T170000
DTSTAMP:20260424T141835
CREATED:20240904T104137Z
LAST-MODIFIED:20240904T104137Z
UID:563-1725091200-1727715600@www.hkhn.nl
SUMMARY:Expositie in de Smidse: Verbindingen over water\, spoor en weg
DESCRIPTION:12 expositie in De Smidse in de maand september: \n“Verbindingen over water\, spoor en weg” \nOok dit jaar organiseert de werkgroep expositie van de Historische Kring Hellendoorn-Nijverdal weer een\nexpositie in De Smidse. Het thema dit jaar is: Verbindingen over water\, spoor en weg”.\nDe expositie in De Smidse is op werkdagen geopend van 13.00 tot 17.00 uur en in het weekend van 11.00\ntot 17.00 uur. Op zondag 1\, 8\, 15 en 22 september om 14.30 uur is er een lezing.\nDe toegang is gratis\, een vrije gift is natuurlijk welkom. \nIedere bezoeker krijgt een gratis boekje over het thema van de expositie om thuis nog eens na te kijken.\nWe realiseren het ons niet zo vaak\, maar verbindingen over water\, spoor en weg vormen een essentieel\nonderdeel van onze geschiedenis en dan met name de geschiedenis van het ontstaan van Nijverdal.\nDe aanleg van de straatweg Zwolle-Almelo in 1830\, in combinatie met de al aanwezige waterweg de Regge\,\nwas immers bepalend voor de keuze van Thomas Ainsworth om hier het centrum van de Twentse\ntextielindustrie te maken. Op 14 mei 1836 was de stichting van Nijverdal een feit. \nTot de aanleg van de straatweg Zwolle-Almelo bestond er geen rechtstreekse verbinding met Twente. Het\nWierdense veen was een grote hindernis. Wie de kortste weg naar Wierden wilde nemen\, moest eerst door de\nRegge waden en dan gebruik maken van een vaag te onderscheiden voetpad. Met paard en wagen kon men\ngebruik maken van de ‘Helderbrugge’ om vandaar over de Eversbergweg en de tegenwoordige Boomcateweg\nde weg van Rijssen naar Wierden te bereiken. Ook was er de verbinding vanuit Hellendoorn met Twente via de\n‘Twentseweg’\, die over Schuilenburg naar ’t Hoge Hexel liep. Voor een reis naar Zwolle maakte men ook\ngebruik van de Twentseweg\, die men vanuit Hellendoorn bereikte via Noord-Esweg door de Hellendoornse es. \nDe Regge was al wel eeuwenlang een belangrijke vaarweg\, de A1 van het water in die tijd.\nDoor de aanleg van de straatweg\, de groei van de textielindustrie en de verdere industrialisatie waardoor ook\nandere wegen\, kanalen en spoorlijnen werden aangelegd\, ontstond in opdracht van koning Willem 1 vanaf\n1830 tot nu de verbindingenstructuur zoals we die allemaal kennen en benutten. \nWerden deze verbindingen in eerste instantie vooral gebruikt voor het ontwikkelen van de handel en met\nname het transporteren van goederen. In de loop van de jaren zijn we verbindingen ook voor veel meer\ndoeleinden gaan gebruiken. \nIn deze 12e expositie besteden we dus aandacht aan de ontwikkeling van de verbindingen over water\, per\nspoor en de weg (Twentseweg\, Ommen-Goor\, Oude Deventerweg\, Toeristenweg\, de Regge\, de Kanalen en de\n3 spoorlijnen). Daarnaast is er ook aandacht voor de havezaten en andere gebouwen langs de wegen.\nHet bouwen van de Enterse Zomp\, het heffen van tol en de stations in onze gemeente.\nOok is er aandacht voor het bedrijfsspoor van de KSW. \nVoor mensen die slecht ter been zijn\, is er een stoeltjeslift aanwezig en ook de vrijwilligers helpen u graag de\nexpositie te bezoeken. \nOpening expositie Smidse 31-08-2024 door voorzitter Anneke Raven en wethouder De Waard. \nMeer informatie is op te vragen bij Frits Korver\, tel. 06-11833865\, of Wilma Paalman-Vloedgraven\, tel.\n06-10036869\, email: nijverdaldesmidse@gmail.com
URL:https://www.hkhn.nl/event/expositie-in-de-smidse-verbindingen-over-water-spoor-en-weg/
LOCATION:De Smidse\, Hoge Dijkje 4a\, Nijverdal\, Overijssel\, 7442 AE
CATEGORIES:Smidse
ATTACH;FMTTYPE=image/jpeg:https://www.hkhn.nl/wp-content/uploads/2024/09/31-08-2024-Opening-expositie-5-scaled.jpg
END:VEVENT
BEGIN:VEVENT
DTSTART;TZID=Europe/Amsterdam:20240626T130000
DTEND;TZID=Europe/Amsterdam:20240626T170000
DTSTAMP:20260424T141835
CREATED:20240620T100621Z
LAST-MODIFIED:20240620T100621Z
UID:544-1719406800-1719421200@www.hkhn.nl
SUMMARY:Filmmiddag
DESCRIPTION:Woensdag 26 juni 2024 organiseert de Historische Kring Hellendoorn Nijverdal weer een Filmmiddag voor senioren. De inloop met koffie en thee is vanaf 13 uur. Daarna worden historische films vertoond van onze gemeente of omgeving. Na de film is er tijd om onder het genot van een hapje en drankje gezellig na te praten. Er is ruimte voor maximaal 30 deelnemers. Gezien de beperkte ruimte een vriendelijk verzoek om u aan te melden. Dat kan via de mail: huismeester@hkhn.nl of telefonisch tijdens openingstijden: 06-12867560 \nOpeningstijden Historisch Centrum ‘d Oale Pastorie\, Grotestraat 150 (naast de Sint Antonius van Padua in Nijverdal): donderdag en vrijdag van 13.00 tot 16.30 uur\, zaterdag van 11.00 tot 15.30 uur.
URL:https://www.hkhn.nl/event/filmmiddag/
LOCATION:Historisch Centrum ‘d Oale Pastorie\, Grotestraat 150\, Nijverdal\, Nederland
CATEGORIES:Seniorenuitje
ATTACH;FMTTYPE=image/jpeg:https://www.hkhn.nl/wp-content/uploads/2024/06/filmmiddag.jpg
ORGANIZER;CN="HKHN":MAILTO:huismeester@hkhn.nl
END:VEVENT
END:VCALENDAR